BEGIN:VCALENDAR
VERSION:2.0
PRODID:-//Corral de Comedias - ECPv6.15.11//NONSGML v1.0//EN
CALSCALE:GREGORIAN
METHOD:PUBLISH
X-WR-CALNAME:Corral de Comedias
X-ORIGINAL-URL:https://corraldecomedias.com
X-WR-CALDESC:Eventos para Corral de Comedias
REFRESH-INTERVAL;VALUE=DURATION:PT1H
X-Robots-Tag:noindex
X-PUBLISHED-TTL:PT1H
BEGIN:VTIMEZONE
TZID:UTC
BEGIN:STANDARD
TZOFFSETFROM:+0000
TZOFFSETTO:+0000
TZNAME:UTC
DTSTART:20240101T000000
END:STANDARD
END:VTIMEZONE
BEGIN:VEVENT
DTSTART;TZID=UTC:20250801T204500
DTEND;TZID=UTC:20250801T204500
DTSTAMP:20260425T145247
CREATED:20250616T071039Z
LAST-MODIFIED:20250722T071112Z
UID:3159-1754081100-1754081100@corraldecomedias.com
SUMMARY:Va de Amores
DESCRIPTION:⇔  COMPRAR ENTRADA  ⇔\n  Un auténtico homenaje al amor con la obra «Va de Amores». \n   El bufón cómico “Bufo”\, actuando como maestro de ceremonias\, nos guía a través de los enredos y pasiones que el amor suscita\, tanto en los escenarios como en la vida cotidiana.
URL:https://corraldecomedias.com/event/va-de-amores-010825/
LOCATION:Corral de comedias\, Ciudad REal\, 13260\, Spain
CATEGORIES:Umbra Teatro
ATTACH;FMTTYPE=image/jpeg:https://corraldecomedias.com/wp-content/uploads/2025/02/Entradas-eventos-Corral-VA-DE-AMORES.jpg
END:VEVENT
BEGIN:VEVENT
DTSTART;TZID=UTC:20250802T223000
DTEND;TZID=UTC:20250802T223000
DTSTAMP:20260425T145247
CREATED:20250611T112752Z
LAST-MODIFIED:20250616T113555Z
UID:3073-1754173800-1754173800@corraldecomedias.com
SUMMARY:La Celestina
DESCRIPTION:⇔  COMPRAR ENTRADA  ⇔\n   Calisto\, un caballero de clase alta\, tras seguir el vuelo de su prófugo halcón acaba inmerso en el huerto de la joven\, gentil y honorable Melibea de la que se enamora perdidamente. \n   El gran sentido del honor de Melibea provoca el rechazo a Calisto y la necesidad de que aparezca Celestina para unir sus vidas y dar solución a un desesperado Calisto. \n   Celestina\, la vieja codiciosa\, protagonista de esta industria\, asociada con los criados de Calisto\, Pármeno y Sempronio y con las ayuda de sus dos fieles y preciadas hechiceras\, Areúsa (su heredera) y Elicia (su niña) consiguen mediante la astucia\, el instinto\, la magia y su sabiduría el provecho de Calisto. \n   Pero aquel halcón que se coló en el huerto de Melibea forjó de forma involuntaria un fatídico final.
URL:https://corraldecomedias.com/event/la-celestina-020825/
LOCATION:Corral de comedias\, Ciudad REal\, 13260\, Spain
CATEGORIES:Umbra Teatro
ATTACH;FMTTYPE=image/jpeg:https://corraldecomedias.com/wp-content/uploads/2025/02/Entradas-eventos-Corral-LA-CELESTINA.jpg
END:VEVENT
BEGIN:VEVENT
DTSTART;TZID=UTC:20250808T203000
DTEND;TZID=UTC:20250808T203000
DTSTAMP:20260425T145247
CREATED:20250604T094905Z
LAST-MODIFIED:20250620T112138Z
UID:2841-1754685000-1754685000@corraldecomedias.com
SUMMARY:La Francesa Laura
DESCRIPTION:⇔  COMPRAR ENTRADA  ⇔\nLa trama transcurre en Francia y gira en torno a Laura\, hija del duque de Bretaña y casada con el conde Arnaldo. El Delfín\, heredero al trono de Francia\, se encapricha de ella y se dispone a cortejarla a cualquier coste. Pero la protagonista se resiste a los envites del príncipe y a las sospechas de su marido quien\, en un ataque de celos y por el temor a la pública deshonra\, intenta incluso acabar con la vida de su mujer mediante un potente veneno. \nFinalmente\, queda probada la integridad de Laura y se restituye la felicidad en la pareja.
URL:https://corraldecomedias.com/event/la-francesa-laura-0808/
LOCATION:Corral de comedias\, Ciudad REal\, 13260\, Spain
CATEGORIES:Fundación Siglo de Oro
ATTACH;FMTTYPE=image/jpeg:https://corraldecomedias.com/wp-content/uploads/2025/02/Entradas-eventos-Corral_la-francesa-laura.jpg
END:VEVENT
BEGIN:VEVENT
DTSTART;TZID=UTC:20250809T203000
DTEND;TZID=UTC:20250809T203000
DTSTAMP:20260425T145247
CREATED:20250604T091508Z
LAST-MODIFIED:20250620T114849Z
UID:2815-1754771400-1754771400@corraldecomedias.com
SUMMARY:La Dama Boba
DESCRIPTION:⇔  COMPRAR ENTRADA  ⇔\n  La dama boba\, terminada de escribir el 28 de abril de 1613\, es una obra perteneciente al género de las comedias de enredo que plantea el recurrente y revisitado juego cómico entre el amor y la razón\, propio tanto del Siglo de Oro como de su gran autor Lope de Vega. \nLa pieza se centra en la transformación de la boba Finea en dama discreta gracias al poder educativo del amor. En el Madrid del S.XVI\, Finea\, heredera de una gran fortuna\, es prometida en matrimonio con Liseo. Laurencio\, el enamorado de su hermana Nise\, y por el interés en la dote de Finea\, trata de enamorarla con palabras y requiebros que ella desconocía. Llegado el momento de la presentación de los prometidos\, Liseo decepcionado por el imprudente y “bobo” comportamiento de Finea renuncia a casarse con ella. Liseo y Laurencio acuerdan\, tras su enfrentamiento provocado por los celos\, cortejar cada uno de ellos a cada una de las hermanas que más le interesa. \nTras esta orquestación\, a espaldas de ambas hermanas\, la personalidad de Finea se va transformando como resultado de su relación amorosa con Laurencio. Nise\, desconocedora del pacto alcanzado por los galanes y profundamente celosa de la relación de su hermana y su antiguo pretendiente\, Laurencio\, acude a su padre Octavio\, que interviene para atender la solicitud de su hija mayor. \nEl acrecentado ingenio amoroso e intelectual de su hermana Finea\, generará un desenlace y resolución de las aspiraciones de todos los personajes como ninguno podía esperar de ella. \n 
URL:https://corraldecomedias.com/event/la-dama-boba-090825/
LOCATION:Corral de comedias\, Ciudad REal\, 13260\, Spain
ATTACH;FMTTYPE=image/jpeg:https://corraldecomedias.com/wp-content/uploads/2025/01/Corral-3.jpg
END:VEVENT
BEGIN:VEVENT
DTSTART;TZID=UTC:20250809T224500
DTEND;TZID=UTC:20250809T224500
DTSTAMP:20260425T145247
CREATED:20250606T143337Z
LAST-MODIFIED:20250606T143337Z
UID:2922-1754779500-1754779500@corraldecomedias.com
SUMMARY:Desventura y muertes de Balín el Encandilado
DESCRIPTION:⇔  COMPRAR ENTRADA  ⇔\nBAULÍN\, mercader de quincalla y sueños\, antihéroe a su pesar\, delincuente desastroso y espectador insaciable de Corrales de Comedias\, pasa sus días tratando de alcanzar fama\, riquezas y gloria emulando. \nFracasando en cada intento\, llega\, sin fama\, riqueza\, ni gloria\, con medio siglo en sus alforjas\, a la conclusión de que su última oportunidad de celebridad es tener una muerte memorable. Con la inestimable colaboración de los espectadores y de su ratoncillo Quevedo\, tratará de alcanzar la funesta la gloria deseada. \nLlega Baulín\, como siempre\, tarde. Afilador\, mercader\, quincallero\, vendedor de ungüentos y de exóticos inventos…..
URL:https://corraldecomedias.com/event/baulin-el-encandilado/
LOCATION:Corral de comedias\, Ciudad REal\, 13260\, Spain
CATEGORIES:Fundación Siglo de Oro
ATTACH;FMTTYPE=image/jpeg:https://corraldecomedias.com/wp-content/uploads/2025/06/Entradas-eventos-Baulin.jpg
END:VEVENT
BEGIN:VEVENT
DTSTART;TZID=UTC:20250810T203000
DTEND;TZID=UTC:20250810T203000
DTSTAMP:20260425T145247
CREATED:20250604T084151Z
LAST-MODIFIED:20250620T114024Z
UID:2780-1754857800-1754857800@corraldecomedias.com
SUMMARY:Don Gil de las calzas verdes
DESCRIPTION:⇔  COMPRAR ENTRADA  ⇔\nDon Martín ha abandonado a su prometida\, doña Juana\, en su Valladolid natal\, y ha escapado a la Corte bajo la falsa identidad de Don Gil de albornoz\, con la intención de pretender a otra dama más rica\, llamada doña Inés. \nLo que don Martín no espera es que\, la misma tarde en que va a conocer a doña Inés\, esta se ha enamorado de otro Don Gil\, cuyas únicas señas son una hermosa cara de niño y unas características calzas verdes. Ni don Martín ni doña Inés saben que Don Gil de las calzas verdes es doña Juana disfrazada. \nTampoco se imagina doña Inés que doña Elvira\, su nueva vecina y confidente\, a la que adora por su gran parecido con Don Gil\, es también doña Juana disfrazada. Y así Don Gil de las Calzas verdes\, doña Elvira o doña Juana enredarán\, engañarán y atormentarán a todo Madrid hasta que don Martín desista de su empeño y vuelva a los brazos de su prometida… o hasta que acabe completamente loco.
URL:https://corraldecomedias.com/event/don-gil-de-las-calzas-verdes-1008/
LOCATION:Corral de comedias\, Ciudad REal\, 13260\, Spain
CATEGORIES:Fundación Siglo de Oro
ATTACH;FMTTYPE=image/jpeg:https://corraldecomedias.com/wp-content/uploads/2025/02/Entradas-eventos-Corral_don-Gil-de-las-calzas-verdes.jpg
END:VEVENT
BEGIN:VEVENT
DTSTART;TZID=UTC:20250815T223000
DTEND;TZID=UTC:20250815T223000
DTSTAMP:20260425T145247
CREATED:20250614T082609Z
LAST-MODIFIED:20250722T070956Z
UID:3107-1755297000-1755297000@corraldecomedias.com
SUMMARY:Dios te salve\, cómico
DESCRIPTION:⇔  COMPRAR ENTRADA  ⇔\n  ¡¡¡Dios te salve!!!\, cómico\, es una versión de Javier Mañón a partir del texto: «Gangarilla el día del acabose»\, de Arturo Echavarren.  \n   La historia narra los momentos finales de tres cómicos de la legua que\, tras su muerte\, tendrán que defender su salvación o condenación frente a todos los santos (el público\, en este caso). Para ello\, usarán todo su «arte» y una gran variedad de textos de los grandes autores del Siglo de Oro español (Calderón\, Santa Teresa de Jesús\, Sor Juana Inés de la Cruz\, Tirso de Molina\, Lope de Vega…). \n   Mostrando no sólo la vida de los cómicos de la legua en su época\, si no también muchos de los estilos teatrales que existen: Realismo\, farsa\, teatro del absurdo\, comedia del arte….
URL:https://corraldecomedias.com/event/dios-te-salve-comico-1508/
LOCATION:Corral de comedias\, Ciudad REal\, 13260\, Spain
CATEGORIES:Umbra Teatro
ATTACH;FMTTYPE=image/jpeg:https://corraldecomedias.com/wp-content/uploads/2025/02/Entradas-eventos-Corral-DIOS-TE-SALVE.jpg
END:VEVENT
BEGIN:VEVENT
DTSTART;TZID=UTC:20250816T203000
DTEND;TZID=UTC:20250816T203000
DTSTAMP:20260425T145247
CREATED:20250616T090149Z
LAST-MODIFIED:20250616T113512Z
UID:3232-1755376200-1755376200@corraldecomedias.com
SUMMARY:La Discreta Enamorada
DESCRIPTION:⇔  COMPRAR ENTRADA  ⇔\n   ¡Tres mujeres luchan por dar voz a sus corazones en una sociedad que limita sus elecciones.! \n   Fenisa\, astuta y decidida\, persigue el amor verdadero; Gerarda\, ingeniosa y libre\, busca escapar del amor por despecho mientras anhela su libertad; y Belisa\, jovial y dependiente\, se entrega a un amor ilusorio. \n  Entre enredos\, confesiones y juegos de apariencias\, La Discreta Enamorada\, de la   Cía. Umbra\, despliega una comedia deliciosa donde estas mujeres desafían las normas y revelan la fuerza de las emociones femeninas en una sociedad llena de restricciones.
URL:https://corraldecomedias.com/event/la-discreta-enamorada-160825/
LOCATION:Corral de comedias\, Ciudad REal\, 13260\, Spain
CATEGORIES:Umbra Teatro
ATTACH;FMTTYPE=image/jpeg:https://corraldecomedias.com/wp-content/uploads/2025/06/Entradas-eventos-ladiscreta.jpg
END:VEVENT
BEGIN:VEVENT
DTSTART;TZID=UTC:20250822T203000
DTEND;TZID=UTC:20250822T203000
DTSTAMP:20260425T145247
CREATED:20250604T091652Z
LAST-MODIFIED:20250604T091652Z
UID:2817-1755894600-1755894600@corraldecomedias.com
SUMMARY:La Dama Boba
DESCRIPTION:⇔  COMPRAR ENTRADA  ⇔\n  La dama boba\, terminada de escribir el 28 de abril de 1613\, es una obra perteneciente al género de las comedias de enredo que plantea el recurrente y revisitado juego cómico entre el amor y la razón\, propio tanto del Siglo de Oro como de su gran autor Lope de Vega. \nLa pieza se centra en la transformación de la boba Finea en dama discreta gracias al poder educativo del amor. En el Madrid del S.XVI\, Finea\, heredera de una gran fortuna\, es prometida en matrimonio con Liseo. Laurencio\, el enamorado de su hermana Nise\, y por el interés en la dote de Finea\, trata de enamorarla con palabras y requiebros que ella desconocía. Llegado el momento de la presentación de los prometidos\, Liseo decepcionado por el imprudente y “bobo” comportamiento de Finea renuncia a casarse con ella. Liseo y Laurencio acuerdan\, tras su enfrentamiento provocado por los celos\, cortejar cada uno de ellos a cada una de las hermanas que más le interesa. \nTras esta orquestación\, a espaldas de ambas hermanas\, la personalidad de Finea se va transformando como resultado de su relación amorosa con Laurencio. Nise\, desconocedora del pacto alcanzado por los galanes y profundamente celosa de la relación de su hermana y su antiguo pretendiente\, Laurencio\, acude a su padre Octavio\, que interviene para atender la solicitud de su hija mayor. \nEl acrecentado ingenio amoroso e intelectual de su hermana Finea\, generará un desenlace y resolución de las aspiraciones de todos los personajes como ninguno podía esperar de ella. \n 
URL:https://corraldecomedias.com/event/la-dama-boba-220825/
LOCATION:Corral de comedias\, Ciudad REal\, 13260\, Spain
ATTACH;FMTTYPE=image/jpeg:https://corraldecomedias.com/wp-content/uploads/2025/01/Corral-3.jpg
END:VEVENT
BEGIN:VEVENT
DTSTART;TZID=UTC:20250824T193000
DTEND;TZID=UTC:20250824T193000
DTSTAMP:20260425T145247
CREATED:20250604T084426Z
LAST-MODIFIED:20250604T084426Z
UID:2782-1756063800-1756063800@corraldecomedias.com
SUMMARY:Don Gil de las calzas verdes
DESCRIPTION:⇔  COMPRAR ENTRADA  ⇔\nDon Martín ha abandonado a su prometida\, doña Juana\, en su Valladolid natal\, y ha escapado a la Corte bajo la falsa identidad de Don Gil de albornoz\, con la intención de pretender a otra dama más rica\, llamada doña Inés. \nLo que don Martín no espera es que\, la misma tarde en que va a conocer a doña Inés\, esta se ha enamorado de otro Don Gil\, cuyas únicas señas son una hermosa cara de niño y unas características calzas verdes. Ni don Martín ni doña Inés saben que Don Gil de las calzas verdes es doña Juana disfrazada. \nTampoco se imagina doña Inés que doña Elvira\, su nueva vecina y confidente\, a la que adora por su gran parecido con Don Gil\, es también doña Juana disfrazada. Y así Don Gil de las Calzas verdes\, doña Elvira o doña Juana enredarán\, engañarán y atormentarán a todo Madrid hasta que don Martín desista de su empeño y vuelva a los brazos de su prometida… o hasta que acabe completamente loco.
URL:https://corraldecomedias.com/event/don-gil-de-las-calzas-verdes-240825/
LOCATION:Corral de comedias\, Ciudad REal\, 13260\, Spain
CATEGORIES:Fundación Siglo de Oro
ATTACH;FMTTYPE=image/jpeg:https://corraldecomedias.com/wp-content/uploads/2025/02/Entradas-eventos-Corral_don-Gil-de-las-calzas-verdes.jpg
END:VEVENT
BEGIN:VEVENT
DTSTART;TZID=UTC:20250829T223000
DTEND;TZID=UTC:20250829T223000
DTSTAMP:20260425T145247
CREATED:20250614T083020Z
LAST-MODIFIED:20250616T113501Z
UID:3109-1756506600-1756506600@corraldecomedias.com
SUMMARY:Dios te salve\, cómico
DESCRIPTION:⇔  COMPRAR ENTRADA  ⇔\n  ¡¡¡Dios te salve!!!\, cómico\, es una versión de Javier Mañón a partir del texto: «Gangarilla el día del acabose»\, de Arturo Echavarren.  \n   La historia narra los momentos finales de tres cómicos de la legua que\, tras su muerte\, tendrán que defender su salvación o condenación frente a todos los santos (el público\, en este caso). Para ello\, usarán todo su «arte» y una gran variedad de textos de los grandes autores del Siglo de Oro español (Calderón\, Santa Teresa de Jesús\, Sor Juana Inés de la Cruz\, Tirso de Molina\, Lope de Vega…). \n   Mostrando no sólo la vida de los cómicos de la legua en su época\, si no también muchos de los estilos teatrales que existen: Realismo\, farsa\, teatro del absurdo\, comedia del arte….
URL:https://corraldecomedias.com/event/dios-te-salve-comico-2908/
LOCATION:Corral de comedias\, Ciudad REal\, 13260\, Spain
CATEGORIES:Umbra Teatro
ATTACH;FMTTYPE=image/jpeg:https://corraldecomedias.com/wp-content/uploads/2025/02/Entradas-eventos-Corral-DIOS-TE-SALVE.jpg
END:VEVENT
BEGIN:VEVENT
DTSTART;TZID=UTC:20250830T223000
DTEND;TZID=UTC:20250830T223000
DTSTAMP:20260425T145247
CREATED:20250616T074637Z
LAST-MODIFIED:20250616T113449Z
UID:3194-1756593000-1756593000@corraldecomedias.com
SUMMARY:Entremeses Cervantes
DESCRIPTION:⇔  COMPRAR ENTRADA  ⇔\nEl entremeses fue uno de los géneros más apreciados por el público de la época\, ya que se permitía que tuvieran un contenido más cercano a la realidad de los espectadores… \nLa importancia de los ENTREMESES de Cervantes radica principalmente en dos aspectos.Uno el valor que demostró al publicarlos\, porque desde el primer cuarto del siglo XVI …
URL:https://corraldecomedias.com/event/entremeses-cervantes-300825/
LOCATION:Corral de comedias\, Ciudad REal\, 13260\, Spain
CATEGORIES:Umbra Teatro
ATTACH;FMTTYPE=image/jpeg:https://corraldecomedias.com/wp-content/uploads/2025/03/Entradas-eventos-Corral.jpg
END:VEVENT
END:VCALENDAR