BEGIN:VCALENDAR
VERSION:2.0
PRODID:-//Corral de Comedias - ECPv6.15.11//NONSGML v1.0//EN
CALSCALE:GREGORIAN
METHOD:PUBLISH
X-WR-CALNAME:Corral de Comedias
X-ORIGINAL-URL:https://corraldecomedias.com
X-WR-CALDESC:Eventos para Corral de Comedias
REFRESH-INTERVAL;VALUE=DURATION:PT1H
X-Robots-Tag:noindex
X-PUBLISHED-TTL:PT1H
BEGIN:VTIMEZONE
TZID:UTC
BEGIN:STANDARD
TZOFFSETFROM:+0000
TZOFFSETTO:+0000
TZNAME:UTC
DTSTART:20240101T000000
END:STANDARD
END:VTIMEZONE
BEGIN:VEVENT
DTSTART;TZID=UTC:20250607T213000
DTEND;TZID=UTC:20250607T213000
DTSTAMP:20260425T174350
CREATED:20250331T075957Z
LAST-MODIFIED:20250617T133335Z
UID:2053-1749331800-1749331800@corraldecomedias.com
SUMMARY:Entremeses Cervantes\, 0706
DESCRIPTION:⇔  COMPRAR ENTRADA  ⇔\nEl entremeses fue uno de los géneros más apreciados por el público de la época\, ya que se permitía que tuvieran un contenido más cercano a la realidad de los espectadores… \nLa importancia de los ENTREMESES de Cervantes radica principalmente en dos aspectos.Uno el valor que demostró al publicarlos\, porque desde el primer cuarto del siglo XVI …
URL:https://corraldecomedias.com/event/entremeses-cervantes-0706/
LOCATION:Corral de comedias\, Ciudad REal\, 13260\, Spain
CATEGORIES:Umbra Teatro
ATTACH;FMTTYPE=image/jpeg:https://corraldecomedias.com/wp-content/uploads/2025/03/Entradas-eventos-Corral.jpg
END:VEVENT
BEGIN:VEVENT
DTSTART;TZID=UTC:20250613T203000
DTEND;TZID=UTC:20250613T203000
DTSTAMP:20260425T174350
CREATED:20250430T062417Z
LAST-MODIFIED:20250512T074119Z
UID:2626-1749846600-1749846600@corraldecomedias.com
SUMMARY:La Farsa del Siglo de oro
DESCRIPTION:⇔  COMPRAR ENTRADA  ⇔\nGóngora y Quevedo en un duelo a letras batido en el Pasapalabra o Velázquez pintando las Meninasen compañía de la irreverente Infanta Margarita. \nEscrita en verso y utilizando el género del Farsa para crar situaciones irrisorias\, La Farsa del Siglo de Oro posee un ritmo trepidante que enlaza situaciones y expresiones actuales con la rima y el vocabulario del siglo de oro. Con el fin de crear esa complicidad cómica entre las grandes figuras de la literatura y el arte\, con el público tanto general como el espectador amante de ésta época dorada. \nCuatro actores\, Armando Jerez\, Maria Rodríguez\, Lucia Jerez y Andreas Figueiredo dan vida a estos personajes clave de nuestra historia y serán el nexo entre la corrala y la actualidad. \n 
URL:https://corraldecomedias.com/event/la-farsa-del-siglo-de-oro-130625/
LOCATION:Corral de comedias\, Ciudad REal\, 13260\, Spain
CATEGORIES:Fundación Siglo de Oro
ATTACH;FMTTYPE=image/jpeg:https://corraldecomedias.com/wp-content/uploads/2025/02/Entradas-eventos-Corral-la-farsa-del-siglo-de-oro.jpg
END:VEVENT
BEGIN:VEVENT
DTSTART;TZID=UTC:20250614T203000
DTEND;TZID=UTC:20250614T203000
DTSTAMP:20260425T174350
CREATED:20250219T101054Z
LAST-MODIFIED:20250512T074039Z
UID:1393-1749933000-1749933000@corraldecomedias.com
SUMMARY:El Perro del Hortelano
DESCRIPTION:⇔  COMPRAR ENTRADA  ⇔\nHistoria de sangre azul\, de erotismo y de privilegios —los que ostentaba la aristocracia a comienzos del siglo XVII. El perro del hortelano\, drama de amor\, envidia\, celos y honor\, fue escrito en 1613 por el gran autor teatral Lope de Vega. \nLa acción\, que se desarrolla en Nápoles\, narra la historia de Diana\, condesa de Belfor. Diana es una joven hermosa y obstinada a la que acosan varios pretendientes aristocráticos que desean casarse con ella. Sin embargo\, Diana rechaza constantemente todos sus intentos. Una noche\, después de ver a su secretario hacer el amor con su dama de compañía favorita se enamora locamente de él y enferma de celos. \nEsta es la historia de un triángulo amoroso\, de amores prohibidos y traiciones\, que acontece cuando Nápoles estaba en poder de España. Así\, la casa de la Condesa manipulada por los nobles representa esa parte de la sociedad española que vivía fuera del país. El hecho de situar la acción en esta ciudad europea permite\, además\, que la obra esté llena de influencias y tramas italianas\, a las que tan aficionado era Lope.
URL:https://corraldecomedias.com/event/el-perro-del-hortelano-4/
LOCATION:Corral de comedias\, Ciudad REal\, 13260\, Spain
CATEGORIES:Fundación Siglo de Oro
ATTACH;FMTTYPE=image/jpeg:https://corraldecomedias.com/wp-content/uploads/2025/02/Entradas-eventos-Corral-El-perro-del-hortelano.jpg
END:VEVENT
BEGIN:VEVENT
DTSTART;TZID=UTC:20250614T224500
DTEND;TZID=UTC:20250614T224500
DTSTAMP:20260425T174350
CREATED:20250219T103443Z
LAST-MODIFIED:20250512T073954Z
UID:1399-1749941100-1749941100@corraldecomedias.com
SUMMARY:La Malcasada
DESCRIPTION:⇔  COMPRAR ENTRADA  ⇔\nFeliciana\, una viuda que posee posición social pero no tiene dinero\, desea casar a su hija Lucrecia con un buen partido. La joven se enamora de Don Juan\, un soldado sin fortuna\, pero con un corazón tan grande que es capaz de amarla como ella necesita. Feliciana considera que este no es buen partido para su hija\, encontrando mucho más provechoso el matrimonio con Lisardo\, un licenciado de buena familia pero sin ningún interés en la joven más allá de afianzarse en la corte acallando las voces que le acusan de llevar una vida disoluta. \nFinalmente su madre entrega la mano de Lucrecia a Julio\, un viejo rico milanés\, dejando a los dos pretendientes compuestos y sin novia. \nPartiendo de esta situación\, Lope construye una comedia delirante\, llena de equívocos y peripecias\, donde el De Vega reflexiona con mucho humor sobre como la libertad de las mujeres está supeditada al dinero. De cómo los seres humanos vendemos nuestros “dones” y como nos convertimos en meros bienes de consumo. En nuestra versión\, los personajes de Lope tomarán la palabra para confrontar con el público del siglo XXI que asiste a la función. Una función que llevan representando más de cuatrocientos años y que demuestra que las cosas no han cambiado en esencia demasiado para las mujeres y\, por supuesto\, tampoco para los hombres. \n 
URL:https://corraldecomedias.com/event/la-malcasada-3/
LOCATION:Corral de comedias\, Ciudad REal\, 13260\, Spain
CATEGORIES:Fundación Siglo de Oro
ATTACH;FMTTYPE=image/jpeg:https://corraldecomedias.com/wp-content/uploads/2025/02/Entradas-eventos-Corral-la-malcasada.jpg
END:VEVENT
BEGIN:VEVENT
DTSTART;TZID=UTC:20250615T183000
DTEND;TZID=UTC:20250615T183000
DTSTAMP:20260425T174350
CREATED:20250224T090138Z
LAST-MODIFIED:20250616T113731Z
UID:1556-1750012200-1750012200@corraldecomedias.com
SUMMARY:Ejemplares de Cervantes
DESCRIPTION:⇔  COMPRAR ENTRADA  ⇔\nEl dramaturgo y actor Antonio Campos da vida a las novelas ejemplares escritas por Cervantes\, recuperando los clásicos cervantinos\, metiéndose en la piel de un juglar\, un contador de historias\, un declamador que va por España de plaza en plaza junto al músico Carlos Beceiro\, -fundador y componente del mítico grupo de música folk ibérico La Musgaña-\, con dirección de Lluís Elías y producción de Albacity Corporation. \nEn definitiva no solo como escribió Cervantes que la intención de estas novelas era para encontrar momentos de distracción y entretenimiento\, sino que también se ve reflejada la sombra del Quijote en esta genial representación que abandera la libertad como consigna\, pues como dejó escrito Cervantes A ESTO SE APLICÓ MI INGENIO.
URL:https://corraldecomedias.com/event/ejemplares-de-cervantes-1506/
LOCATION:Corral de comedias\, Ciudad REal\, 13260\, Spain
CATEGORIES:Fundación Siglo de Oro
ATTACH;FMTTYPE=image/jpeg:https://corraldecomedias.com/wp-content/uploads/2025/02/Entradas-eventos-Corral-EJEMPLARES-DE-CERVANTES.jpg
END:VEVENT
BEGIN:VEVENT
DTSTART;TZID=UTC:20250620T213000
DTEND;TZID=UTC:20250620T213000
DTSTAMP:20260425T174350
CREATED:20250224T111715Z
LAST-MODIFIED:20250617T133316Z
UID:1628-1750455000-1750455000@corraldecomedias.com
SUMMARY:Va de Amores
DESCRIPTION:⇔  COMPRAR ENTRADA  ⇔\n  Un auténtico homenaje al amor con la obra «Va de Amores». \n   El bufón cómico “Bufo”\, actuando como maestro de ceremonias\, nos guía a través de los enredos y pasiones que el amor suscita\, tanto en los escenarios como en la vida cotidiana.
URL:https://corraldecomedias.com/event/va-de-amores-2006/
LOCATION:Corral de comedias\, Ciudad REal\, 13260\, Spain
CATEGORIES:Umbra Teatro
ATTACH;FMTTYPE=image/jpeg:https://corraldecomedias.com/wp-content/uploads/2025/02/Entradas-eventos-Corral-VA-DE-AMORES.jpg
END:VEVENT
BEGIN:VEVENT
DTSTART;TZID=UTC:20250621T213000
DTEND;TZID=UTC:20250621T213000
DTSTAMP:20260425T174350
CREATED:20250224T104345Z
LAST-MODIFIED:20250616T113712Z
UID:1600-1750541400-1750541400@corraldecomedias.com
SUMMARY:La Celestina
DESCRIPTION:⇔  COMPRAR ENTRADA  ⇔\n   Calisto\, un caballero de clase alta\, tras seguir el vuelo de su prófugo halcón acaba inmerso en el huerto de la joven\, gentil y honorable Melibea de la que se enamora perdidamente. \n   El gran sentido del honor de Melibea provoca el rechazo a Calisto y la necesidad de que aparezca Celestina para unir sus vidas y dar solución a un desesperado Calisto. \n   Celestina\, la vieja codiciosa\, protagonista de esta industria\, asociada con los criados de Calisto\, Pármeno y Sempronio y con las ayuda de sus dos fieles y preciadas hechiceras\, Areúsa (su heredera) y Elicia (su niña) consiguen mediante la astucia\, el instinto\, la magia y su sabiduría el provecho de Calisto. \n   Pero aquel halcón que se coló en el huerto de Melibea forjó de forma involuntaria un fatídico final.
URL:https://corraldecomedias.com/event/la-celestina-2106/
LOCATION:Corral de comedias\, Ciudad REal\, 13260\, Spain
CATEGORIES:Umbra Teatro
ATTACH;FMTTYPE=image/jpeg:https://corraldecomedias.com/wp-content/uploads/2025/02/Entradas-eventos-Corral-LA-CELESTINA.jpg
END:VEVENT
END:VCALENDAR