BEGIN:VCALENDAR
VERSION:2.0
PRODID:-//Corral de Comedias - ECPv6.15.11//NONSGML v1.0//EN
CALSCALE:GREGORIAN
METHOD:PUBLISH
X-WR-CALNAME:Corral de Comedias
X-ORIGINAL-URL:https://corraldecomedias.com
X-WR-CALDESC:Eventos para Corral de Comedias
REFRESH-INTERVAL;VALUE=DURATION:PT1H
X-Robots-Tag:noindex
X-PUBLISHED-TTL:PT1H
BEGIN:VTIMEZONE
TZID:UTC
BEGIN:STANDARD
TZOFFSETFROM:+0000
TZOFFSETTO:+0000
TZNAME:UTC
DTSTART:20240101T000000
END:STANDARD
END:VTIMEZONE
BEGIN:VEVENT
DTSTART;TZID=UTC:20250328T203000
DTEND;TZID=UTC:20250328T221500
DTSTAMP:20260424T074121
CREATED:20250219T100833Z
LAST-MODIFIED:20250224T082013Z
UID:1387-1743193800-1743200100@corraldecomedias.com
SUMMARY:El Perro del Hortelano
DESCRIPTION:⇔  COMPRAR ENTRADA  ⇔\nHistoria de sangre azul\, de erotismo y de privilegios —los que ostentaba la aristocracia a comienzos del siglo XVII. El perro del hortelano\, drama de amor\, envidia\, celos y honor\, fue escrito en 1613 por el gran autor teatral Lope de Vega. \nLa acción\, que se desarrolla en Nápoles\, narra la historia de Diana\, condesa de Belfor. Diana es una joven hermosa y obstinada a la que acosan varios pretendientes aristocráticos que desean casarse con ella. Sin embargo\, Diana rechaza constantemente todos sus intentos. Una noche\, después de ver a su secretario hacer el amor con su dama de compañía favorita se enamora locamente de él y enferma de celos. \nEsta es la historia de un triángulo amoroso\, de amores prohibidos y traiciones\, que acontece cuando Nápoles estaba en poder de España. Así\, la casa de la Condesa manipulada por los nobles representa esa parte de la sociedad española que vivía fuera del país. El hecho de situar la acción en esta ciudad europea permite\, además\, que la obra esté llena de influencias y tramas italianas\, a las que tan aficionado era Lope.
URL:https://corraldecomedias.com/event/el-perro-del-hortelano/
LOCATION:Corral de comedias\, Ciudad REal\, 13260\, Spain
CATEGORIES:Fundación Siglo de Oro
ATTACH;FMTTYPE=image/jpeg:https://corraldecomedias.com/wp-content/uploads/2025/02/Entradas-eventos-Corral-El-perro-del-hortelano.jpg
END:VEVENT
BEGIN:VEVENT
DTSTART;TZID=UTC:20250322T203000
DTEND;TZID=UTC:20250322T220000
DTSTAMP:20260424T074121
CREATED:20250219T095423Z
LAST-MODIFIED:20250312T084109Z
UID:1374-1742675400-1742680800@corraldecomedias.com
SUMMARY:Don Gil de las Calzas Verdes
DESCRIPTION:⇔  COMPRAR ENTRADA  ⇔\nDon Martín ha abandonado a su prometida\, doña Juana\, en su Valladolid natal\, y ha escapado a la Corte bajo la falsa identidad de Don Gil de albornoz\, con la intención de pretender a otra dama más rica\, llamada doña Inés. \nLo que don Martín no espera es que\, la misma tarde en que va a conocer a doña Inés\, esta se ha enamorado de otro Don Gil\, cuyas únicas señas son una hermosa cara de niño y unas características calzas verdes. Ni don Martín ni doña Inés saben que Don Gil de las calzas verdes es doña Juana disfrazada. \nTampoco se imagina doña Inés que doña Elvira\, su nueva vecina y confidente\, a la que adora por su gran parecido con Don Gil\, es también doña Juana disfrazada. Y así Don Gil de las Calzas verdes\, doña Elvira o doña Juana enredarán\, engañarán y atormentarán a todo Madrid hasta que don Martín desista de su empeño y vuelva a los brazos de su prometida… o hasta que acabe completamente loco.
URL:https://corraldecomedias.com/event/don-gil-de-las-calzas-verdes-copy/
LOCATION:Corral de comedias\, Ciudad REal\, 13260\, Spain
CATEGORIES:Fundación Siglo de Oro
ATTACH;FMTTYPE=image/jpeg:https://corraldecomedias.com/wp-content/uploads/2025/02/Entradas-eventos-Corral_don-Gil-de-las-calzas-verdes.jpg
END:VEVENT
BEGIN:VEVENT
DTSTART;TZID=UTC:20250321T203000
DTEND;TZID=UTC:20250321T221500
DTSTAMP:20260424T074121
CREATED:20250310T100804Z
LAST-MODIFIED:20250318T160637Z
UID:1674-1742589000-1742595300@corraldecomedias.com
SUMMARY:La Dama Boba 2103
DESCRIPTION:⇔  COMPRAR ENTRADA  ⇔\n  La dama boba\, terminada de escribir el 28 de abril de 1613\, es una obra perteneciente al género de las comedias de enredo que plantea el recurrente y revisitado juego cómico entre el amor y la razón\, propio tanto del Siglo de Oro como de su gran autor Lope de Vega. \nLa pieza se centra en la transformación de la boba Finea en dama discreta gracias al poder educativo del amor. En el Madrid del S.XVI\, Finea\, heredera de una gran fortuna\, es prometida en matrimonio con Liseo. Laurencio\, el enamorado de su hermana Nise\, y por el interés en la dote de Finea\, trata de enamorarla con palabras y requiebros que ella desconocía. Llegado el momento de la presentación de los prometidos\, Liseo decepcionado por el imprudente y “bobo” comportamiento de Finea renuncia a casarse con ella. Liseo y Laurencio acuerdan\, tras su enfrentamiento provocado por los celos\, cortejar cada uno de ellos a cada una de las hermanas que más le interesa. \nTras esta orquestación\, a espaldas de ambas hermanas\, la personalidad de Finea se va transformando como resultado de su relación amorosa con Laurencio. Nise\, desconocedora del pacto alcanzado por los galanes y profundamente celosa de la relación de su hermana y su antiguo pretendiente\, Laurencio\, acude a su padre Octavio\, que interviene para atender la solicitud de su hija mayor. \nEl acrecentado ingenio amoroso e intelectual de su hermana Finea\, generará un desenlace y resolución de las aspiraciones de todos los personajes como ninguno podía esperar de ella. \n 
URL:https://corraldecomedias.com/event/la-dama-boba-2103/
LOCATION:Corral de comedias\, Ciudad REal\, 13260\, Spain
CATEGORIES:Fundación Siglo de Oro
ATTACH;FMTTYPE=image/jpeg:https://corraldecomedias.com/wp-content/uploads/2025/01/Corral-3.jpg
END:VEVENT
BEGIN:VEVENT
DTSTART;TZID=UTC:20250315T203000
DTEND;TZID=UTC:20250315T220000
DTSTAMP:20260424T074121
CREATED:20250219T100254Z
LAST-MODIFIED:20250224T081207Z
UID:1383-1742070600-1742076000@corraldecomedias.com
SUMMARY:La Francesa Laura
DESCRIPTION:⇔  COMPRAR ENTRADA  ⇔\nLa trama transcurre en Francia y gira en torno a Laura\, hija del duque de Bretaña y casada con el conde Arnaldo. El Delfín\, heredero al trono de Francia\, se encapricha de ella y se dispone a cortejarla a cualquier coste. Pero la protagonista se resiste a los envites del príncipe y a las sospechas de su marido quien\, en un ataque de celos y por el temor a la pública deshonra\, intenta incluso acabar con la vida de su mujer mediante un potente veneno. \nFinalmente\, queda probada la integridad de Laura y se restituye la felicidad en la pareja.
URL:https://corraldecomedias.com/event/la-francesa-laura/
LOCATION:Corral de comedias\, Ciudad REal\, 13260\, Spain
CATEGORIES:Fundación Siglo de Oro
ATTACH;FMTTYPE=image/jpeg:https://corraldecomedias.com/wp-content/uploads/2025/02/Entradas-eventos-Corral_la-francesa-laura.jpg
END:VEVENT
BEGIN:VEVENT
DTSTART;TZID=UTC:20250314T203000
DTEND;TZID=UTC:20250314T220000
DTSTAMP:20260424T074121
CREATED:20250219T095351Z
LAST-MODIFIED:20250312T084014Z
UID:1372-1741984200-1741989600@corraldecomedias.com
SUMMARY:Don Gil de las Calzas Verdes
DESCRIPTION:⇔  COMPRAR ENTRADA  ⇔\nDon Martín ha abandonado a su prometida\, doña Juana\, en su Valladolid natal\, y ha escapado a la Corte bajo la falsa identidad de Don Gil de albornoz\, con la intención de pretender a otra dama más rica\, llamada doña Inés. \nLo que don Martín no espera es que\, la misma tarde en que va a conocer a doña Inés\, esta se ha enamorado de otro Don Gil\, cuyas únicas señas son una hermosa cara de niño y unas características calzas verdes. Ni don Martín ni doña Inés saben que Don Gil de las calzas verdes es doña Juana disfrazada. \nTampoco se imagina doña Inés que doña Elvira\, su nueva vecina y confidente\, a la que adora por su gran parecido con Don Gil\, es también doña Juana disfrazada. Y así Don Gil de las Calzas verdes\, doña Elvira o doña Juana enredarán\, engañarán y atormentarán a todo Madrid hasta que don Martín desista de su empeño y vuelva a los brazos de su prometida… o hasta que acabe completamente loco.
URL:https://corraldecomedias.com/event/don-gil-de-las-calzas-verdes-3/
LOCATION:Corral de comedias\, Ciudad REal\, 13260\, Spain
CATEGORIES:Fundación Siglo de Oro
ATTACH;FMTTYPE=image/jpeg:https://corraldecomedias.com/wp-content/uploads/2025/02/Entradas-eventos-Corral_don-Gil-de-las-calzas-verdes.jpg
END:VEVENT
BEGIN:VEVENT
DTSTART;TZID=UTC:20250308T203000
DTEND;TZID=UTC:20250308T220000
DTSTAMP:20260424T074121
CREATED:20250219T095257Z
LAST-MODIFIED:20250224T074557Z
UID:1370-1741465800-1741471200@corraldecomedias.com
SUMMARY:Don Gil de las Calzas Verdes
DESCRIPTION:⇔  COMPRAR ENTRADA  ⇔\nDon Martín ha abandonado a su prometida\, doña Juana\, en su Valladolid natal\, y ha escapado a la Corte bajo la falsa identidad de Don Gil de albornoz\, con la intención de pretender a otra dama más rica\, llamada doña Inés. \nLo que don Martín no espera es que\, la misma tarde en que va a conocer a doña Inés\, esta se ha enamorado de otro Don Gil\, cuyas únicas señas son una hermosa cara de niño y unas características calzas verdes. Ni don Martín ni doña Inés saben que Don Gil de las calzas verdes es doña Juana disfrazada. \nTampoco se imagina doña Inés que doña Elvira\, su nueva vecina y confidente\, a la que adora por su gran parecido con Don Gil\, es también doña Juana disfrazada. Y así Don Gil de las Calzas verdes\, doña Elvira o doña Juana enredarán\, engañarán y atormentarán a todo Madrid hasta que don Martín desista de su empeño y vuelva a los brazos de su prometida… o hasta que acabe completamente loco.
URL:https://corraldecomedias.com/event/don-gil-de-las-calzas-verdes-2/
LOCATION:Corral de comedias\, Ciudad REal\, 13260\, Spain
CATEGORIES:Fundación Siglo de Oro
ATTACH;FMTTYPE=image/jpeg:https://corraldecomedias.com/wp-content/uploads/2025/02/Entradas-eventos-Corral_don-Gil-de-las-calzas-verdes.jpg
END:VEVENT
BEGIN:VEVENT
DTSTART;TZID=UTC:20250307T200000
DTEND;TZID=UTC:20250307T214500
DTSTAMP:20260424T074121
CREATED:20250131T202145Z
LAST-MODIFIED:20250222T162024Z
UID:126-1741377600-1741383900@corraldecomedias.com
SUMMARY:La Dama Boba
DESCRIPTION:⇔  COMPRAR ENTRADA  ⇔\n  La dama boba\, terminada de escribir el 28 de abril de 1613\, es una obra perteneciente al género de las comedias de enredo que plantea el recurrente y revisitado juego cómico entre el amor y la razón\, propio tanto del Siglo de Oro como de su gran autor Lope de Vega. \nLa pieza se centra en la transformación de la boba Finea en dama discreta gracias al poder educativo del amor. En el Madrid del S.XVI\, Finea\, heredera de una gran fortuna\, es prometida en matrimonio con Liseo. Laurencio\, el enamorado de su hermana Nise\, y por el interés en la dote de Finea\, trata de enamorarla con palabras y requiebros que ella desconocía. Llegado el momento de la presentación de los prometidos\, Liseo decepcionado por el imprudente y “bobo” comportamiento de Finea renuncia a casarse con ella. Liseo y Laurencio acuerdan\, tras su enfrentamiento provocado por los celos\, cortejar cada uno de ellos a cada una de las hermanas que más le interesa. \nTras esta orquestación\, a espaldas de ambas hermanas\, la personalidad de Finea se va transformando como resultado de su relación amorosa con Laurencio. Nise\, desconocedora del pacto alcanzado por los galanes y profundamente celosa de la relación de su hermana y su antiguo pretendiente\, Laurencio\, acude a su padre Octavio\, que interviene para atender la solicitud de su hija mayor. \nEl acrecentado ingenio amoroso e intelectual de su hermana Finea\, generará un desenlace y resolución de las aspiraciones de todos los personajes como ninguno podía esperar de ella. \n 
URL:https://corraldecomedias.com/event/don-gil-de-las-calzas-verdes/
LOCATION:Corral de comedias\, Ciudad REal\, 13260\, Spain
ATTACH;FMTTYPE=image/jpeg:https://corraldecomedias.com/wp-content/uploads/2025/01/Corral-3.jpg
END:VEVENT
BEGIN:VEVENT
DTSTART;TZID=UTC:20250301T200000
DTEND;TZID=UTC:20250301T220000
DTSTAMP:20260424T074121
CREATED:20250224T103946Z
LAST-MODIFIED:20250617T133619Z
UID:1594-1740859200-1740866400@corraldecomedias.com
SUMMARY:La Celestina 0103
DESCRIPTION:⇔  COMPRAR ENTRADA  ⇔\n   Calisto\, un caballero de clase alta\, tras seguir el vuelo de su prófugo halcón acaba inmerso en el huerto de la joven\, gentil y honorable Melibea de la que se enamora perdidamente. \n   El gran sentido del honor de Melibea provoca el rechazo a Calisto y la necesidad de que aparezca Celestina para unir sus vidas y dar solución a un desesperado Calisto. \n   Celestina\, la vieja codiciosa\, protagonista de esta industria\, asociada con los criados de Calisto\, Pármeno y Sempronio y con las ayuda de sus dos fieles y preciadas hechiceras\, Areúsa (su heredera) y Elicia (su niña) consiguen mediante la astucia\, el instinto\, la magia y su sabiduría el provecho de Calisto. \n   Pero aquel halcón que se coló en el huerto de Melibea forjó de forma involuntaria un fatídico final.
URL:https://corraldecomedias.com/event/la-celestina-0103/
LOCATION:Corral de comedias\, Ciudad REal\, 13260\, Spain
CATEGORIES:Umbra Teatro
ATTACH;FMTTYPE=image/jpeg:https://corraldecomedias.com/wp-content/uploads/2025/02/Entradas-eventos-Corral-LA-CELESTINA.jpg
END:VEVENT
END:VCALENDAR